BEGIN:VCALENDAR
VERSION:2.0
PRODID:-//ChamberMaster//Event Calendar 2.0//EN
METHOD:PUBLISH
X-PUBLISHED-TTL:P3D
REFRESH-INTERVAL:P3D
CALSCALE:GREGORIAN
BEGIN:VEVENT
DTSTART:20211018T153000Z
DTEND:20211018T170000Z
X-MICROSOFT-CDO-ALLDAYEVENT:FALSE
SUMMARY:Water & Environment Task Force
DESCRIPTION:The East Bay Leadership Council's Water & Environment Task Force is excited to welcome Joaquin Esquivel\, the chair of the State Water Resources Control Board to our October meeting. This is a rare opportunity to hear about state water policy\, water rights and water quality issues from one of our state's leaders in the field. If you have questions you would like included in this program\, please email them in advance to lindy@eblcmail.org \n\n\n\nAbout our Speaker: \n\nE. Joaquin Esquivel was appointed to the State Water Resources\n\nControl Board by Governor Jerry Brown in March 2017 and designated by Governor Gavin Newsom as Chair in February 2019. Previously\, he served as Assistant Secretary for federal water policy at the California Natural Resources Agency in the Governor's Washington\, D.C. office\, where he facilitated the development of policy priorities between the agency\, the Governor's Office\, the California Congressional delegation\, and federal stakeholder agencies.\n\nFor more than eight years prior to that\, Joaquin worked for U.S. Senator Barbara Boxer of California\, most recently as her legislative assistant covering the agriculture\, native american\, water\, oceans\, and nutrition portfolios\, in addition to being the director of Information and Technology.\n\n\n\nHe was born and raised in California's Coachella Valley. He holds a BA from the University of California\, Santa Barbara in English.
X-ALT-DESC;FMTTYPE=text/html:<span style="font-size:14px\;"><span style="font-family:arial\;">The East Bay Leadership Council&#39\;s Water &amp\; Environment Task Force is excited to welcome Joaquin Esquivel\, the chair of the&nbsp\;State Water Resources Control Board to our October meeting. This is a rare opportunity to hear about state water policy\, water rights and water quality issues from one of our state&#39\;s leaders in the field. If you have questions you would like included in this program\, please email them in advance to lindy@eblcmail.org&nbsp\;<br />\n<br />\n<strong>About our Speaker:&nbsp\;</strong><br />\n<span style="color:#333333\;">E. Joaquin Esquivel was appointed to the State Water Resources<br />\nControl Board by Governor Jerry Brown in March 2017 and designated by Governor Gavin Newsom as Chair in February 2019. Previously\, he served as Assistant Secretary for federal water policy at the California Natural Resources Agency in the Governor&rsquo\;s Washington\, D.C. office\, where he facilitated the development of policy priorities between the agency\, the Governor&rsquo\;s Office\, the California Congressional delegation\, and federal stakeholder agencies.</span><br />\n<span style="color:#333333\;">For more than eight years prior to that\, Joaquin worked for U.S. Senator Barbara Boxer of California\, most recently as her legislative assistant covering the agriculture\, native american\, water\, oceans\, and nutrition portfolios\, in addition to being the director of Information and Technology.</span><br />\n<br />\n<span style="color:#333333\;">He was born and raised in California&rsquo\;s Coachella Valley. He holds a BA from the University of California\, Santa Barbara in English.</span></span></span><br />\n<br />\n&nbsp\;
LOCATION:Join us: https://us02web.zoom.us/j/84701725386?pwd=djJXRThzQzhaeGZlSVRubGE5ZkFnUT09 Meeting ID: 847 0172 5386 Passcode: 785801 Phone: 1-669-900-6833
UID:e.9237.3901
SEQUENCE:3
DTSTAMP:20260423T112118Z
URL:https://members.eastbayleadershipcouncil.com/events/details/water-environment-task-force-10-19-2021-3901
END:VEVENT

END:VCALENDAR
