BEGIN:VCALENDAR
VERSION:2.0
PRODID:-//ChamberMaster//Event Calendar 2.0//EN
METHOD:PUBLISH
X-PUBLISHED-TTL:P3D
REFRESH-INTERVAL:P3D
CALSCALE:GREGORIAN
BEGIN:VEVENT
DTSTART:20260317T153000Z
DTEND:20260317T170000Z
X-MICROSOFT-CDO-ALLDAYEVENT:FALSE
SUMMARY:Water\, Energy\, & Environment Task Force
DESCRIPTION:Please join the East Bay Leadership Council's Water & Environment Task Force for a presentation focused on energy transition jobs and workforce development.\n\n\n\nStay tuned for more information soon! Email meg@eblcmail.org with any questions.
X-ALT-DESC;FMTTYPE=text/html:<span style="font-family: arial\; font-size: 14px\;">Please join the East Bay Leadership Council's Water &amp\; Environment Task Force for a presentation focused on energy transition jobs and workforce development.</span><br style="font-family: arial\; font-size: 14px\;">\n<br style="font-family: arial\; font-size: 14px\;">\n<span style="font-family: arial\; font-size: 14px\;">Stay tuned for more information soon! Email&nbsp\;</span><a href="mailto:meg@eblcmail.org" style="font-family: arial\; font-size: 14px\;">meg@eblcmail.org</a><span style="font-family: arial\; font-size: 14px\;">&nbsp\;with any questions.</span>
LOCATION:Most meetings are held in-person at Brown & Caldwell in Walnut Creek but some are hosted online. Check back here for updates on location and meeting topic.
UID:e.9237.3954
SEQUENCE:3
DTSTAMP:20260420T083906Z
URL:https://members.eastbayleadershipcouncil.com/events/details/water-environment-task-force-03-17-2026-3954
END:VEVENT

END:VCALENDAR
