BEGIN:VCALENDAR
VERSION:2.0
PRODID:-//ChamberMaster//Event Calendar 2.0//EN
METHOD:PUBLISH
X-PUBLISHED-TTL:P3D
REFRESH-INTERVAL:P3D
CALSCALE:GREGORIAN
BEGIN:VEVENT
DTSTART:20210817T153000Z
DTEND:20210817T170000Z
X-MICROSOFT-CDO-ALLDAYEVENT:FALSE
SUMMARY:Water and Environment Task Force Meeting
DESCRIPTION:Join the East Bay Leadership Council's Water and Environment Task Force for a discussion with Cargill and the East Bay Dischargers Authority about Cargill's effort to enhance processing and remove natural mixed sea salts from their Newark facility. \n\n\n\nPresenters\n\nDon Brown\, Director of State Government Relations\, Cargill\n\nJackie Zipkin\, General Manager\, East Bay Dischargers Authority
X-ALT-DESC;FMTTYPE=text/html:<p><span style="font-family:arial\;">Join the East Bay Leadership Council&#39\;s Water and Environment Task Force for a discussion with Cargill and the East Bay Dischargers Authority about Cargill&#39\;s effort to&nbsp\;<span style="text-indent: -0.19in\;">enhance processing and remove natural mixed sea salts from their Newark facility.&nbsp\;<br />\n<br />\n<strong>Presenters</strong></span><br />\nDon Brown\, Director of State Government Relations\, Cargill<br />\nJackie Zipkin\, General Manager\, East Bay Dischargers Authority</span></p>\n
LOCATION:Join Zoom Meeting: https://us02web.zoom.us/j/87447461210?pwd=SFJONXpzSk15RlcyT25RV0gzZlpvQT09 Meeting ID: 874 4746 1210 Passcode: 335903 Join by phone: 1-669-900-6833
UID:e.9237.3349
SEQUENCE:3
DTSTAMP:20260423T143141Z
URL:https://members.eastbayleadershipcouncil.com/events/details/water-and-environment-task-force-meeting-3349
END:VEVENT

END:VCALENDAR
