BEGIN:VCALENDAR
VERSION:2.0
PRODID:-//ChamberMaster//Event Calendar 2.0//EN
METHOD:PUBLISH
X-PUBLISHED-TTL:P3D
REFRESH-INTERVAL:P3D
CALSCALE:GREGORIAN
BEGIN:VEVENT
DTSTART:20251023T210000Z
DTEND:20251023T220000Z
X-MICROSOFT-CDO-ALLDAYEVENT:FALSE
SUMMARY:Health Task Force
DESCRIPTION:Join EBLC's Health Task Force for a focused discussion on the implications of H.R.1 and the opportunities for coordinated action. We will begin with brief reflections from representatives across the health care landscape\, who will share their concerns about H.R.1 and describe how their organizations are preparing and responding. We will then move into a full-group conversation to identify areas for impactful collaboration.\n\nPlease review the questions below in advance. We are eager to hear how your organization is approaching H.R.1 and to learn more from your perspective.\n\n\n	What are the major concerns about H.R.1 for your organization/sector?\n	How is your organization responding?\n	What are you hearing in your network/community about ways to respond?\n	Are there organizations/people you are collaborating with on this issue?\n	What resources do you need to help you be successful in responding to H.R.1?\n	How can EBLC leverage its advocacy to be most helpful?\n\n\n\nMEETING AGENDA\n\n2:00 PM   Welcome and Introductions\, Rebecca Rozen\n\n2:02 PM   Chair Update\, Rebecca Rozen\n\n2:05 PM   Policy Director Update\, Meg Stern\n\n2:08 PM   H.R.1 Impacts and Responses\, Representatives from Various Health Care Sectors\n\n2:28 PM   Group Discussion on H.R.1\, All\n\n2:58 PM   Member Updates\, All\n\n3:00 PM   Adjourn\, Rebecca Rozen\n\nThe East Bay Leadership Council is an employer-led membership organization on a mission to improve the economy and quality of life in the East Bay through policy advocacy. Thank you for contributing to our work through your involvement in EBLC's Health Task Force.
X-ALT-DESC;FMTTYPE=text/html:<div class="x_elementToProof" data-olk-copy-source="MessageBody" style="font-family:&quot\;Calibri&quot\;\,&quot\;Helvetica&quot\;\,sans-serif\; font-size:11pt\; color:rgb(0\,0\,0)">\n<p><span style="font-size:14px\;"><span style="font-family:arial\;">Join EBLC&rsquo\;s Health Task Force for a focused discussion on the implications of H.R.1 and the opportunities for coordinated action. We will begin with brief reflections from representatives across the health care landscape\, who will share their concerns about H.R.1 and describe how their organizations are preparing and responding. We will then move into a full-group conversation to identify areas for impactful collaboration.</span></span></p>\n\n<p><span style="font-size:14px\;"><span style="font-family:arial\;">Please review the questions below in advance. We are eager to hear how your organization is approaching H.R.1 and to learn more from your perspective.</span></span></p>\n\n<ul>\n	<li><span style="font-size:14px\;"><span style="font-family:arial\;">What are the major concerns about H.R.1 for your organization/sector?</span></span></li>\n	<li><span style="font-size:14px\;"><span style="font-family:arial\;">How is your organization responding?</span></span></li>\n	<li><span style="font-size:14px\;"><span style="font-family:arial\;">What are you hearing in your network/community about ways to respond?</span></span></li>\n	<li><span style="font-size:14px\;"><span style="font-family:arial\;">Are there organizations/people you are collaborating with on this issue?</span></span></li>\n	<li><span style="font-size:14px\;"><span style="font-family:arial\;">What resources do you need to help you be successful in responding to H.R.1?</span></span></li>\n	<li><span style="font-size:14px\;"><span style="font-family:arial\;">How can EBLC leverage its advocacy to be most helpful?</span></span></li>\n</ul>\n</div>\n\n<p><span style="font-size:14px\;"><span style="font-family:arial\;"><strong>MEETING AGENDA</strong></span></span></p>\n\n<p><span style="font-size:14px\;"><span style="font-family:arial\;">2:00 PM &mdash\; Welcome and Introductions\, <em>Rebecca Rozen</em><br />\n2:02 PM &mdash\; Chair Update\, <em>Rebecca Rozen</em><br />\n2:05 PM &mdash\; Policy Director Update\, <em>Meg Stern</em><br />\n2:08 PM &mdash\; H.R.1 Impacts and Responses\, <em>Representatives from Various Health Care Sectors</em><br />\n2:28 PM &mdash\; Group Discussion on H.R.1\, <em>All</em><br />\n2:58 PM &mdash\; Member Updates\, <em>All</em><br />\n3:00 PM &mdash\; Adjourn\, <em>Rebecca Rozen</em></span></span></p>\n\n<p><span style="font-size:14px\;"><span style="font-family:arial\;">The East Bay Leadership Council is an employer-led membership organization on a mission to improve the economy and quality of life in the East Bay through policy advocacy. Thank you for contributing to our work through your involvement in EBLC&rsquo\;s Health Task Force.</span></span></p>\n
LOCATION:Zoom Meeting Link: https://us02web.zoom.us/j/86063099609?pwd=cpzLUpOuZoE612p2WTVamwlLRumbKx.1 Meeting ID: 860 6309 9609 Passcode: 739012
UID:e.9237.4209
SEQUENCE:3
DTSTAMP:20260422T150732Z
URL:https://members.eastbayleadershipcouncil.com/events/details/health-task-force-10-23-2025-4209
END:VEVENT

END:VCALENDAR
