BEGIN:VCALENDAR
VERSION:2.0
PRODID:-//ChamberMaster//Event Calendar 2.0//EN
METHOD:PUBLISH
X-PUBLISHED-TTL:P3D
REFRESH-INTERVAL:P3D
CALSCALE:GREGORIAN
BEGIN:VEVENT
DTSTART:20250828T210000Z
DTEND:20250828T220000Z
X-MICROSOFT-CDO-ALLDAYEVENT:FALSE
SUMMARY:Health Task Force
DESCRIPTION:Please join EBLC's Health Task Force for a presentation from Contra Costa County on the implementation of Proposition 1 dollars. Proposition 1 was a ballot measure voted on and approved by California voters in early 2024. The measure approved a $6.4 billion bond to build more places for mental health care and drug or alcohol treatment as well as housing for people with mental health\, drug\, or alcohol challenges. For a more detailed breakdown of the proposition you are welcome to look through this LAO analysis.\n\n \n\nThis presentation will cover progress made on the dispersal and implementation of Prop 1 funds in Contra Costa County. Speakers from the county will include Marie Scannell\, Gerold Loeniker\, Fatima MataSol\, and Windy Taylor.\n\n \n\nMEETING AGENDA\n\n2:00 PM   Welcome and Introductions\, Rebecca Rozen\n\n2:02 PM   Chair Update\, Rebecca Rozen\n\n2:06 PM   Policy Director Update\, Meg Stern\n\n2:10 PM   Presentation on the Implementation of Prop 1 Dollars\, Representatives from Contra Costa County\n\n2:35 PM   Presentation Q&A\, Lyanne Mendez\n\n2:50 PM   Member Updates\, All\n\n3:00 PM   Adjourn\, Rebecca Rozen\n\n \n\nThe East Bay Leadership Council is an employer-led membership organization on a mission to improve the economy and quality of life in the East Bay through policy advocacy. Thank you for contributing to our work through your involvement in EBLC's Health Task Force.
X-ALT-DESC;FMTTYPE=text/html:<p dir="ltr" style="line-height:1.656\;margin-top:0pt\;margin-bottom:0pt\;"><span style="font-size:14px\;"><span style="font-family:arial\;"><span id="docs-internal-guid-242df177-7fff-dd60-a784-298fa1436482"><span style="background-color: transparent\; font-variant-numeric: normal\; font-variant-east-asian: normal\; font-variant-alternates: normal\; font-variant-position: normal\; font-variant-emoji: normal\; vertical-align: baseline\; white-space-collapse: preserve\;">Please join EBLC&#39\;s Health Task Force for a presentation from Contra Costa County on the implementation of Proposition 1 dollars. Proposition 1 was a ballot measure voted on and approved by California voters in early 2024. The measure approved</span></span>&nbsp\;a $6.4 billion bond to build more places for mental health care and drug or alcohol treatment as well as housing for people with mental health\, drug\, or alcohol challenges.<span style="background-color: transparent\; font-variant-numeric: normal\; font-variant-east-asian: normal\; font-variant-alternates: normal\; font-variant-position: normal\; font-variant-emoji: normal\; vertical-align: baseline\; white-space-collapse: preserve\;"> For a more detailed breakdown of the proposition you are welcome to <a href="https://lao.ca.gov/BallotAnalysis/Proposition?number=1&amp\;year=2024">look through this LAO analysis</a>.</span></span></span></p>\n\n<p dir="ltr" style="line-height:1.656\;margin-top:0pt\;margin-bottom:0pt\;">&nbsp\;</p>\n\n<p dir="ltr" style="line-height:1.656\;margin-top:0pt\;margin-bottom:0pt\;"><span style="font-size:14px\;"><span style="font-family:arial\;"><span id="docs-internal-guid-242df177-7fff-dd60-a784-298fa1436482"><span style="background-color: transparent\; font-variant-numeric: normal\; font-variant-east-asian: normal\; font-variant-alternates: normal\; font-variant-position: normal\; font-variant-emoji: normal\; vertical-align: baseline\; white-space-collapse: preserve\;">This presentation will cover progress made on the dispersal and implementation of Prop 1 funds in Contra Costa County. Speakers from the county will include Marie Scannell\, Gerold Loeniker\, Fatima MataSol\, and Windy Taylor.</span></span></span></span></p>\n\n<p dir="ltr" style="line-height:1.656\;margin-top:0pt\;margin-bottom:0pt\;">&nbsp\;</p>\n\n<p dir="ltr" style="line-height:1.656\;margin-top:0pt\;margin-bottom:0pt\;"><span style="background-color: transparent\; font-family: arial\; font-size: 14px\; font-weight: 700\; white-space-collapse: preserve\;">MEETING AGENDA</span></p>\n\n<p dir="ltr" style="line-height:1.656\;margin-top:0pt\;margin-bottom:0pt\;"><span style="font-family: arial\; font-size: 14px\; background-color: transparent\; font-variant-numeric: normal\; font-variant-east-asian: normal\; font-variant-alternates: normal\; font-variant-position: normal\; font-variant-emoji: normal\; vertical-align: baseline\; white-space-collapse: preserve\;">2:00 PM &mdash\; Welcome and Introductions\, </span><span style="font-family: arial\; font-size: 14px\; background-color: transparent\; font-style: italic\; font-variant-numeric: normal\; font-variant-east-asian: normal\; font-variant-alternates: normal\; font-variant-position: normal\; font-variant-emoji: normal\; vertical-align: baseline\; white-space-collapse: preserve\;">Rebecca Rozen</span></p>\n\n<p dir="ltr" style="line-height:1.656\;margin-top:0pt\;margin-bottom:0pt\;"><span style="font-size:14px\;"><span style="font-family:arial\;"><span><span style="background-color: transparent\; font-variant-numeric: normal\; font-variant-east-asian: normal\; font-variant-alternates: normal\; font-variant-position: normal\; font-variant-emoji: normal\; vertical-align: baseline\; white-space-collapse: preserve\;">2:02 PM &mdash\; Chair Update\, </span><span style="background-color: transparent\; font-style: italic\; font-variant-numeric: normal\; font-variant-east-asian: normal\; font-variant-alternates: normal\; font-variant-position: normal\; font-variant-emoji: normal\; vertical-align: baseline\; white-space-collapse: preserve\;">Rebecca Rozen</span></span></span></span></p>\n\n<p dir="ltr" style="line-height:1.656\;margin-top:0pt\;margin-bottom:0pt\;"><span style="font-size:14px\;"><span style="font-family:arial\;"><span><span style="background-color: transparent\; font-variant-numeric: normal\; font-variant-east-asian: normal\; font-variant-alternates: normal\; font-variant-position: normal\; font-variant-emoji: normal\; vertical-align: baseline\; white-space-collapse: preserve\;">2:06 PM &mdash\; Policy Director Update\, </span><span style="background-color: transparent\; font-style: italic\; font-variant-numeric: normal\; font-variant-east-asian: normal\; font-variant-alternates: normal\; font-variant-position: normal\; font-variant-emoji: normal\; vertical-align: baseline\; white-space-collapse: preserve\;">Meg Stern</span></span></span></span></p>\n\n<p dir="ltr" style="line-height:1.656\;margin-top:0pt\;margin-bottom:0pt\;"><span style="font-size:14px\;"><span style="font-family:arial\;"><span><span style="background-color: transparent\; font-variant-numeric: normal\; font-variant-east-asian: normal\; font-variant-alternates: normal\; font-variant-position: normal\; font-variant-emoji: normal\; vertical-align: baseline\; white-space-collapse: preserve\;">2:10 PM &mdash\; Presentation on the Implementation of Prop 1 Dollars\, </span><span style="background-color: transparent\; font-style: italic\; font-variant-numeric: normal\; font-variant-east-asian: normal\; font-variant-alternates: normal\; font-variant-position: normal\; font-variant-emoji: normal\; vertical-align: baseline\; white-space-collapse: preserve\;">Representatives from Contra Costa County</span></span></span></span></p>\n\n<p dir="ltr" style="line-height:1.656\;margin-top:0pt\;margin-bottom:0pt\;"><span style="font-size:14px\;"><span style="font-family:arial\;"><span><span style="background-color: transparent\; font-variant-numeric: normal\; font-variant-east-asian: normal\; font-variant-alternates: normal\; font-variant-position: normal\; font-variant-emoji: normal\; vertical-align: baseline\; white-space-collapse: preserve\;">2:35 PM &mdash\; Presentation Q&amp\;A\, </span><span style="background-color: transparent\; font-style: italic\; font-variant-numeric: normal\; font-variant-east-asian: normal\; font-variant-alternates: normal\; font-variant-position: normal\; font-variant-emoji: normal\; vertical-align: baseline\; white-space-collapse: preserve\;">Lyanne Mendez</span></span></span></span></p>\n\n<p dir="ltr" style="line-height:1.656\;margin-top:0pt\;margin-bottom:0pt\;"><span style="font-size:14px\;"><span style="font-family:arial\;"><span><span style="background-color: transparent\; font-variant-numeric: normal\; font-variant-east-asian: normal\; font-variant-alternates: normal\; font-variant-position: normal\; font-variant-emoji: normal\; vertical-align: baseline\; white-space-collapse: preserve\;">2:50 PM &mdash\; Member Updates\, </span><span style="background-color: transparent\; font-style: italic\; font-variant-numeric: normal\; font-variant-east-asian: normal\; font-variant-alternates: normal\; font-variant-position: normal\; font-variant-emoji: normal\; vertical-align: baseline\; white-space-collapse: preserve\;">All</span></span></span></span></p>\n\n<p dir="ltr" style="line-height:1.656\;margin-top:0pt\;margin-bottom:0pt\;"><span style="font-size:14px\;"><span style="font-family:arial\;"><span><span style="background-color: transparent\; font-variant-numeric: normal\; font-variant-east-asian: normal\; font-variant-alternates: normal\; font-variant-position: normal\; font-variant-emoji: normal\; vertical-align: baseline\; white-space-collapse: preserve\;">3:00 PM &mdash\; Adjourn\, </span><span style="background-color: transparent\; font-style: italic\; font-variant-numeric: normal\; font-variant-east-asian: normal\; font-variant-alternates: normal\; font-variant-position: normal\; font-variant-emoji: normal\; vertical-align: baseline\; white-space-collapse: preserve\;">Rebecca Rozen</span></span></span></span></p>\n\n<p dir="ltr" style="line-height:1.656\;margin-top:0pt\;margin-bottom:0pt\;">&nbsp\;</p>\n\n<p dir="ltr" style="line-height:1.656\;margin-top:0pt\;margin-bottom:0pt\;"><span style="background-color: transparent\; font-family: arial\; font-size: 14px\; white-space-collapse: preserve\;">The East Bay Leadership Council is an employer-led membership organization on a mission to improve the economy and quality of life in the East Bay through policy advocacy. Thank you for contributing to our work through your involvement in EBLC&rsquo\;s Health Task Force.</span></p>\n\n<div>&nbsp\;</div>\n
LOCATION:Zoom Meeting Link: https://us02web.zoom.us/j/86063099609?pwd=cpzLUpOuZoE612p2WTVamwlLRumbKx.1 Meeting ID: 860 6309 9609 Passcode: 739012
UID:e.9237.4207
SEQUENCE:3
DTSTAMP:20260422T175245Z
URL:https://members.eastbayleadershipcouncil.com/events/details/health-task-force-08-28-2025-4207
END:VEVENT

END:VCALENDAR
