BEGIN:VCALENDAR
VERSION:2.0
PRODID:-//ChamberMaster//Event Calendar 2.0//EN
METHOD:PUBLISH
X-PUBLISHED-TTL:P3D
REFRESH-INTERVAL:P3D
CALSCALE:GREGORIAN
BEGIN:VEVENT
DTSTART:20251027T180000Z
DTEND:20251027T190000Z
X-MICROSOFT-CDO-ALLDAYEVENT:FALSE
SUMMARY:2025 Capitol Series | Senator Jerry McNerney (Webinar)
DESCRIPTION:*Note New Date\, Time\, and Format*\n\nJoin the East Bay Leadership Council for the third part to our 2025 Capitol Series featuring a presentation and Q&A with Senator Jerry McNerney. \n\n\n\nAbout the Senator\n\n\n\nSenator Jerry McNerney was elected to the Senate in November 2024\, after serving 16 years in the U.S. Congress. His district includes Alameda County's Tri-Valley area and all of San Joaquin County.\n\n\n\nMcNerney served in Congress from 2006 2023\, where he was a member of several Congressional committees\, including the Veterans Affairs Committee\, the Committee on Science\, Space and Technology\, and the Committee on Energy and Commerce. He also chaired the Artificial Intelligence Caucus\, the Congressional Grid Innovation Caucus\, and the WiFi Caucus. He authored the AI in Government Act.\n\n\n\nDuring his time in Congress\, McNerney was a leading advocate for regional transportation solutions\, including advancing ValleyLink   the proposed rail connection linking the Tri-Valley to BART and the Central Valley   helping strengthen the economic and mobility ties between the East Bay and San Joaquin County.\n\n\n\nIn the California State Senate\, McNerney chairs the Revenue and Taxation committee and serves on key committees focusing on veteran affairs\, budget & fiscal review\, energy & environmental protections\, and agriculture.\n\n\n\nHe also is a member of the Bay Area Caucus\, the California Technology and Innovation Caucus\, and the Delta Protection Commission.
X-ALT-DESC;FMTTYPE=text/html:<p data-end="386" data-start="0"><span style="font-size:18px\;"><strong>*Note New Date\, Time\, and Format*</strong></span></p>\n\n<p data-end="386" data-start="0"><span style="font-size:14px\;"><span style="font-family:arial\;">Join the East Bay Leadership Council for the third&nbsp\;part&nbsp\;to our 2025 Capitol Series featuring a presentation and Q&amp\;A&nbsp\;with Senator Jerry McNerney.&nbsp\;<br />\n<br />\n<u><strong>About the Senator</strong></u></span></span><br />\n<br />\n<span style="font-size:14px\;"><span style="font-family:arial\;">Senator Jerry McNerney was elected to the Senate in November 2024\, after serving 16 years in the U.S. Congress. His district includes Alameda County&rsquo\;s Tri-Valley area and all of San Joaquin County.<br />\n<br />\nMcNerney served in Congress from 2006&ndash\;2023\, where he was a member of several Congressional committees\, including the Veterans Affairs Committee\, the Committee on Science\, Space and Technology\, and the Committee on Energy and Commerce. He also chaired the Artificial Intelligence Caucus\, the Congressional Grid Innovation Caucus\, and the WiFi Caucus. He authored the AI in Government Act.<br />\n<br />\nDuring his time in Congress\, McNerney was a leading advocate for regional transportation solutions\, including advancing ValleyLink &mdash\; the proposed rail connection linking the Tri-Valley to BART and the Central Valley &mdash\; helping strengthen the economic and mobility ties between the East Bay and San Joaquin County.<br />\n<br />\nIn the California State Senate\, McNerney chairs the Revenue and Taxation committee and serves on key committees focusing on veteran affairs\, budget &amp\; fiscal review\, energy &amp\; environmental protections\, and agriculture.<br />\n<br />\nHe also is a member of the Bay Area Caucus\, the California Technology and Innovation Caucus\, and the Delta Protection Commission.</span></span><o:p></o:p><br />\n<o:p></o:p></p>\n
LOCATION:Zoom Webinar
UID:e.9237.4590
SEQUENCE:3
DTSTAMP:20260422T150808Z
URL:https://members.eastbayleadershipcouncil.com/events/details/2025-capitol-series-senator-jerry-mcnerney-webinar-4590
END:VEVENT

END:VCALENDAR
