BEGIN:VCALENDAR
VERSION:2.0
PRODID:-//ChamberMaster//Event Calendar 2.0//EN
METHOD:PUBLISH
X-PUBLISHED-TTL:P3D
REFRESH-INTERVAL:P3D
CALSCALE:GREGORIAN
BEGIN:VEVENT
DTSTART:20250522T233000Z
DTEND:20250523T010000Z
X-MICROSOFT-CDO-ALLDAYEVENT:FALSE
SUMMARY:2025 Capitol Series | Assemblymember Anamarie Ávila Farías
DESCRIPTION:Join the East Bay Leadership Council for the kickoff to the 2025 Capitol Series featuring a Q&A with Assemblymember Anamarie  vila-Far as.\n\n\n\nAssemblymember  vila Far as was elected in 2024 to represent California's 15th Assembly District\, which includes parts of Contra Costa County and the East Bay. A lifelong public servant and advocate for working families\,  vila Far as brings decades of experience in affordable housing\, economic development\, and educational equity to her role in the State Assembly.\n\n\n\nAs the granddaughter of Mexican immigrants who came to the United States through the Bracero Program\, Assemblymember  vila Far as's personal story reflects the resilience and contributions of immigrant communities. Raised by a single mother after her father's passing\, she overcame significant socioeconomic challenges\, inspiring her lifelong commitment to addressing poverty and inequities. These experiences drive her dedication to policies that support housing security\, workforce development\, and family well-being.\n\n\n\nAssemblymember  vila Far as's leadership spans local\, county\, and state levels. She made history in 2012 as the first Latina elected to the Martinez City Council and later served on the Contra Costa County Board of Education. Appointed by both Governor Brown and Governor Newsom to the California Housing Finance Agency Board\, Assemblymember  vila Far as has been a leading voice for housing equity. A dedicated advocate for education and youth empowerment\, she continues to serve on nonprofit boards supporting environmental education and juvenile justice reform. Assemblymember  vila Far as now serves on the Assembly Aging and Long-Term Care\, Housing and Community Development\, Insurance\, Military and Veterans Affairs\, and Water\, Parks\, and Wildlife committees.
X-ALT-DESC;FMTTYPE=text/html:<p><span style="font-size:14px\;"><span style="font-family:arial\;">Join the East Bay Leadership Council for the kickoff to the 2025&nbsp\;Capitol Series featuring a Q&amp\;A with Assemblymember Anamarie&nbsp\;&Aacute\;vila-Far&iacute\;as.<br />\n<br />\nAssemblymember &Aacute\;vila Far&iacute\;as was elected in 2024 to represent&nbsp\;California&rsquo\;s 15th Assembly District\, which includes parts of Contra Costa County and the East Bay. A lifelong public servant and advocate for working families\, &Aacute\;vila Far&iacute\;as brings decades of experience in affordable housing\, economic development\, and educational equity to her role in the State Assembly.<br />\n<br />\nAs the granddaughter of Mexican immigrants who came to the United States through the Bracero Program\, </span></span><span style="font-family: arial\; font-size: 14px\;">Assemblymember&nbsp\;</span><span style="font-size:14px\;"><span style="font-family:arial\;">&Aacute\;vila Far&iacute\;as&rsquo\;s personal story reflects the resilience and contributions of immigrant communities. Raised by a single mother after her father&rsquo\;s passing\, she overcame significant socioeconomic challenges\, inspiring her lifelong commitment to addressing poverty and inequities. These experiences drive her dedication to policies that support housing security\, workforce development\, and family well-being.</span></span><br />\n<br />\n<span style="font-family: arial\; font-size: 14px\;">Assemblymember&nbsp\;</span><span style="font-size:14px\;"><span style="font-family:arial\;">&Aacute\;vila Far&iacute\;as&rsquo\;s leadership spans local\, county\, and state levels. She made history in 2012 as the first Latina elected to the Martinez City Council and later served on the Contra Costa County Board of Education. Appointed by both Governor Brown and Governor Newsom to the California Housing Finance Agency Board\, </span></span><span style="font-family: arial\; font-size: 14px\;">Assemblymember&nbsp\;</span><span style="font-size:14px\;"><span style="font-family:arial\;">&Aacute\;vila Far&iacute\;as has been a leading voice for housing equity. A dedicated advocate for education and youth empowerment\, she continues to serve on nonprofit boards supporting environmental education and juvenile justice reform. </span></span><span style="font-family: arial\; font-size: 14px\;">Assemblymember&nbsp\;</span><span style="font-family: arial\; font-size: 14px\;">&Aacute\;vila Far&iacute\;as now serves on the Assembly&nbsp\;</span><span style="font-size:14px\;"><span style="font-family:arial\;">Aging and Long-Term Care\,&nbsp\;Housing and Community Development\,&nbsp\;Insurance\, Military and Veterans Affairs\, and Water\, Parks\, and Wildlife committees.</span></span></p>\n
LOCATION:In-Person Contra Costa Community College District Office
UID:e.9237.4335
SEQUENCE:3
DTSTAMP:20260422T221930Z
URL:https://members.eastbayleadershipcouncil.com/events/details/2025-capitol-series-assemblymember-anamarie-&#225;vila-far&#237;as-4335
END:VEVENT

END:VCALENDAR
